BEGIN:VCALENDAR
VERSION:2.0
PRODID:Spatie calendar-links
BEGIN:VEVENT
UID:57a450246956f211a645ec6b85a8a679
SUMMARY:1ª edición Premios Euskadi Gastronomika Sariak 2025
DTSTAMP;TZID=Europe/Madrid:20250519T090000
DTSTART;TZID=Europe/Madrid:20250519T090000
DTEND;TZID=Europe/Madrid:20250519T180000
END:VEVENT
END:VCALENDAR